BEGIN:VCALENDAR
VERSION:2.0
PRODID:-//jEvents 1.5 for Joomla//EN
BEGIN:VEVENT
UID:38d68154faf220700e9c270bcd07d9f4
CATEGORIES:Condiviso
SUMMARY:Capitolo Generale 2024
LOCATION:Roma - Collegio internazionale San Lorenzo di Brindisi
DESCRIPTION;ENCODING=QUOTED-PRINTABLE:\nwww.capitulum2024.ofmcap.org\n
CONTACT:www.capitulum2024.ofmcap.org

DTSTAMP:20260423T120551
DTSTART:20240826T000000
DTEND:20240915T235959
SEQUENCE:0
TRANSP:OPAQUE
END:VEVENT
END:VCALENDAR