BEGIN:VCALENDAR
VERSION:2.0
PRODID:-//jEvents 1.5 for Joomla//EN
BEGIN:VEVENT
UID:78e37fb8cefcaded78805d8c2d70a24b
CATEGORIES:Condiviso
SUMMARY:Convegno delgli economi provinciali - La partita doppia
LOCATION:Firenze
DESCRIPTION;ENCODING=QUOTED-PRINTABLE:\nScarica qui la brochure\n\n

DTSTAMP:20260421T202104
DTSTART:20241104T000000
DTEND:20241107T235959
SEQUENCE:0
TRANSP:OPAQUE
END:VEVENT
END:VCALENDAR