BEGIN:VCALENDAR
VERSION:2.0
PRODID:-//jEvents 1.5 for Joomla//EN
BEGIN:VEVENT
UID:05422b782d8c551a78f053d370e8bb5f
CATEGORIES:Condiviso
SUMMARY:Meditazione sulla famiglia
LOCATION:Basilica Papale Minore S. Lorenzo fuori le Mura al Verano
DESCRIPTION;ENCODING=QUOTED-PRINTABLE:\n

DTSTAMP:20260421T151131
DTSTART:20250531T150000
DTEND:20250531T150000
SEQUENCE:0
TRANSP:OPAQUE
END:VEVENT
END:VCALENDAR