BEGIN:VCALENDAR
VERSION:2.0
PRODID:-//jEvents 1.5 for Joomla//EN
BEGIN:VEVENT
UID:9ddc579479dee01dc2f62f0bd872d8bc
CATEGORIES:Condiviso
SUMMARY:Convegno degli Economi provinciali
LOCATION:Firenze
DESCRIPTION;ENCODING=QUOTED-PRINTABLE:Investire oggiUn itinerario ragionato sul\nprocesso di investimento del\nri
 sparmio, tra consapevolezza ed eticità.Firenze\n4-6 Novembre 2025Scarica q
 ui il volantino in PDF

DTSTAMP:20260421T215600
DTSTART:20251104T000000
DTEND:20251106T235959
SEQUENCE:0
TRANSP:OPAQUE
END:VEVENT
END:VCALENDAR