BEGIN:VCALENDAR
VERSION:2.0
PRODID:-//jEvents 1.5 for Joomla//EN
BEGIN:VEVENT
UID:ce559204163a5011fd97415f47fa4925
CATEGORIES:Condiviso
SUMMARY:Rivoluzione Famiglia 
LOCATION:Roma - Museo della Cripta dei Cappuccini
DESCRIPTION;ENCODING=QUOTED-PRINTABLE:\n

DTSTAMP:20260421T215540
DTSTART:20251121T170000
DTEND:20251121T150000
SEQUENCE:0
TRANSP:OPAQUE
END:VEVENT
END:VCALENDAR