BEGIN:VCALENDAR
VERSION:2.0
PRODID:-//jEvents 1.5 for Joomla//EN
BEGIN:VEVENT
UID:9629ce57ddabf28f1e7008f889ad6c43
CATEGORIES:Condiviso
SUMMARY:Più libri più liberi 2025
LOCATION:
DESCRIPTION;ENCODING=QUOTED-PRINTABLE:\n

DTSTAMP:20260421T234159
DTSTART:20251204T000000
DTEND:20251208T235959
SEQUENCE:0
TRANSP:OPAQUE
END:VEVENT
END:VCALENDAR