BEGIN:VCALENDAR
VERSION:2.0
PRODID:-//jEvents 1.5 for Joomla//EN
BEGIN:VEVENT
UID:fb82f5175aa2ba78fbde980f62b4e2cd
CATEGORIES:Condiviso
SUMMARY:Solennità di Maria Santissima Madre di Dio
LOCATION:
DESCRIPTION;ENCODING=QUOTED-PRINTABLE:

DTSTAMP:20260424T192123
DTSTART:20130101T000000
DTEND:20130101T235959
SEQUENCE:0
RRULE:FREQ=YEARLY;COUNT=30;INTERVAL=1;BYYEARDAY=+001
TRANSP:OPAQUE
END:VEVENT
END:VCALENDAR