BEGIN:VCALENDAR
VERSION:2.0
PRODID:-//jEvents 1.5 for Joomla//EN
BEGIN:VEVENT
UID:c8d825630de0f448817929d86ba644be
CATEGORIES:Condiviso
SUMMARY:Festa di San Pio da Pietrelcina
LOCATION:
DESCRIPTION;ENCODING=QUOTED-PRINTABLE:

DTSTAMP:20260421T222311
DTSTART:20130923T000000
DTEND:20130923T235959
SEQUENCE:0
RRULE:FREQ=YEARLY;COUNT=20;INTERVAL=1;BYYEARDAY=+266
TRANSP:OPAQUE
END:VEVENT
END:VCALENDAR