BEGIN:VCALENDAR
VERSION:2.0
PRODID:-//jEvents 1.5 for Joomla//EN
BEGIN:VEVENT
UID:e4fcc6690c9f86ae0c0af381d43f4520
CATEGORIES:Condiviso
SUMMARY:XXXIX Assemblea Unione Famiglie Francescane d’Italia
LOCATION:Veneto
DESCRIPTION;ENCODING=QUOTED-PRINTABLE:
CONTACT:Info fr. Ciro M. Polverino cell. 347 9433519; fr. F. Colacelli cell. 335 6868232 
 
 
 
 
 Questo indirizzo e-mail è protetto dallo spam bot. Abilita Javascript per vederlo.
 
 
 

DTSTAMP:20260424T162551
DTSTART:20150302T000000
DTEND:20150306T235959
SEQUENCE:0
TRANSP:OPAQUE
END:VEVENT
END:VCALENDAR