BEGIN:VCALENDAR
VERSION:2.0
PRODID:-//jEvents 1.5 for Joomla//EN
BEGIN:VEVENT
UID:7626eaf9503638b9bb99d41b0af3ecc6
CATEGORIES:Condiviso
SUMMARY:Gli studi francescani e i convegni internazionali di Assisi
LOCATION:Assisi -  Palazzo Bernabei
DESCRIPTION;ENCODING=QUOTED-PRINTABLE:\n\nScarica i programma in PDF\n

DTSTAMP:20260422T025933
DTSTART:20140711T000000
DTEND:20140712T235959
SEQUENCE:0
TRANSP:OPAQUE
END:VEVENT
END:VCALENDAR