BEGIN:VCALENDAR
VERSION:2.0
PRODID:-//jEvents 1.5 for Joomla//EN
BEGIN:VEVENT
UID:7c894750ae06323d17a5e3ddc3eb0032
CATEGORIES:Condiviso
SUMMARY:Appuntamenti Scuola Superiore di Studi Medievali e Francescani
LOCATION:
DESCRIPTION;ENCODING=QUOTED-PRINTABLE:\n\nAnche nell'Anno Accademico 2014-2015 la Scuola Superiore di Studi Medie
 vali e Francescani attiverà due proposte formative circa gli studi medieva
 li e francescani: il Diploma superiore e il Master di secondo livello orga
 nizzato con il Dipartimento di Scienze umane dell'Università Lumsa di Roma
 .\nDescrizione, programma e altro lo si può leggere nell'Annuario Accademi
 co 2014-2015 della Pontificia Università Antonianum in Roma - disponbile i
 n PDF nel sito http://www.antonianum.eu/pdf/191.pdf - alle pagine 255-268. 
 \nCirca iscrizioni, orari degli uffici, norme generali, tasse accademiche
 , scadenze e calendario si possono vedere le pagine 6-24.\n\nAttività Anno
  Accademico 2014-2015\n\n\nSabato 11 ottobre 2014, ore 16,00. Roma, Pontifi
 cia università Antonianum - Aula S. Antonio. Marco Roncalli, Giovanni XXII
 I, una vita segnata da san Francesco.\n\n\nVenerdì 17 - domenica 19 ottobr
 e: Assisi. Francesco e i frati Minori nello specchio dell'Europa. 42° Conv
 egno della Società Internazionale di Studi Francescani. Programma in http:
 //www.sisf-assisi.it/convegno_nuovo.htm \n\n\n \n\n\nSabato 25 ottobre 201
 4. Firenze, Convento San Francesco - Via Antonio Giacomini, 3. Giornata di 
 studio Anno 1517. La divisione nella Chiesa e nell'Ordine francescano: Marc
 o Pellegrini, La Chiesa tra la fine del Quattrocento e l'inizio del Cinquec
 ento: riforme attese, riforme mancate, presagi di rottura; Andrea Bartocci,
  La bolla Ite vos di Leone X: lettura ed esegesi di un documento pontificio
 ; Guido Dall'Olio, Lutero e la vita religiosa; Maurizio Sangalli, Evoluzion
 e della predicazione cattolica nel Cinquecento pretridentino; Carlo Delcorn
 o, La predicazione francescana tra Quattro e Cinquecento. Alla ricerca di n
 uove forme; Michele Camaioni, Bernardino Ochino e l'Italia. Dalla predicazi
 one evangelico-francescana alla propaganda antiromana (1506-1545); Pacifico
  Sella, Ripensare il 1517.\n\n\n \n\n\n \n\n\nLunedì 17 - giovedì 20 no
 vembre 2014, Roma: IX stage di archivistica per operatori negli archivi del
 le famiglie francescane.\n\n\n \n\n\n\nPubblicazioni\n\n\nGiuseppe Buffon,
  Khanbaliq. Profili storiografici intorno al cristianesimo in Cina dal medi
 oevo all’età contemporanea (XIII-XIX sec.) (Medioevo, 25; Studia - Commi
 ssio sinica, 1), Ed. Antonianum, Roma 2014, pp. 341, euro 35,00. Cfr. http
 ://www.antonianum.eu/it/news/3311/Khanbaliq\n\n\n\nI Francescani e la croci
 ata.  Atti dell’ XI Convegno di Greccio (Greccio, 3-4 maggio 2013), a cur
 a di  A. Cacciotti e M. Melli (Collana di Frate Francesco, 15), Edizioni  B
 iblioteca Francescana, Milano 2014, pp. 396.  Contributi di di Giovanni  G
 rado Merlo, Anna Ajello, Sergio Ferdinandi, Giuseppe Ligato, Marina  Benede
 tti, Paolo Evangelisti, Filip Vaclav Vok, Anna Benvenuti, Franco  Cardini. 
 Cfr. http://www.centroculturalearacoeli.it\n\nColette de Corbie. Ripartire 
 da Cristo sulle orme di Chiara.  Atti della VII Giornata di studio sull'Oss
 ervanza francescana al  femminile (Assisi - Monastère S. Colette, 17 novem
 bre 2012),  Edizioni  Porziuncola, Assisi 2014, pp. 96, euro 14,00. Interv
 enti di  Therese  Myriam Chaumont, Giuseppe Buffon, Marie Colette Roussey
 , Monica  Benedetta Umiker, André Vauchez, Ludovic Viallet.\n\n\nFrance
 sco e Chiara d'Assisi. Percorsi di ricerca sulle fonti. Atti delle giornate
  di studio Edizioni e Traduzioni (Milano,  28 ottobre 2011 - Roma, 9 marzo 
 2012), Editrici Francescane, Padova  2014, p. 520. Contributi di Maria Pia 
 Alberzoni, Attilio Bartoli  Langeli, Jacques Dalarun, Michael W. Blastic, S
 tefano Brufani, Filippo  Sedda, Felice Accrocca, Luigi Pellegrini, Pietro M
 essa, Daniele Solvi, Leonard  Lehmann Aristide Cabassi, Luciano Bertazzo, F
 ernando Uribe, Carlo  Paolazzi, Marco Guida, Monica Benedetta Umiker, Giova
 nni Boccali.\n\n\n \n\n\nDaniele Solvi, Santi lebbrosi. Perfezione cristia
 na e malattia nell'agiografia del Duecento, Biblioteca Francescana, Milano
  2014, pp. 94, euro 10,00.\n\n\n \n\n\nChiara Agnese Acquadro, Sulle orme 
 di Gesù povero. Chiara d'Assisi e il suo itinerario di vita, Ediz. Porziu
 ncola, Assisi 2014, pp. 114, euro 12,00.\n\n\nInformazioni e prenotazioni:\
 n\n\nLibreria Internazionale Francescana\n\n\nPiazza Porziuncola, 1\n\n\n06
 081 S. Maria degli Angeli-Assisi\n\n\ntel. 075.8051503\n\n\nfax 075.8051504
 \n\n\ne-mail:
 
 
 
 
 Questo indirizzo e-mail è protetto dallo spam bot. 
 Abilita Javascript per vederlo.
 
 
 \n\n\nC.F. e P.IVA nr. IT 00160170544\
 n\n\n \n\n\nLibreria Apostoline\n\n\nVia Merulana, 124\n\n\n00185 Roma\n\n
 \nTel. 07-77205027\n\n\ne-mail: 
 
 
 
 
 Questo indirizzo e-mail è protet
 to dallo spam bot. Abilita Javascript per vederlo.
 
 
 \n\n\n \n

DTSTAMP:20260424T192122
DTSTART:20141011T000000
DTEND:20141120T235959
SEQUENCE:0
TRANSP:OPAQUE
END:VEVENT
END:VCALENDAR