BEGIN:VCALENDAR
VERSION:2.0
PRODID:-//jEvents 1.5 for Joomla//EN
BEGIN:VEVENT
UID:2aaa6ef9f27859a5064e1b35618a986f
CATEGORIES:Condiviso
SUMMARY:La Chiesa secondo papa Bergoglio
LOCATION:Chiesa San’Eustachio piazza S. Eustachio, Roma
DESCRIPTION;ENCODING=QUOTED-PRINTABLE:\n\nMichele Zanzucchi dialoga\ncon il card. João Braz de Aviz\nin occasion
 e della presentazione\ndel libro edito da Città Nuova\n\n\nScarica brochur
 e\n

DTSTAMP:20260424T191925
DTSTART:20141119T170000
DTEND:20141119T190000
SEQUENCE:0
TRANSP:OPAQUE
END:VEVENT
END:VCALENDAR