BEGIN:VCALENDAR
VERSION:2.0
PRODID:-//jEvents 1.5 for Joomla//EN
BEGIN:VEVENT
UID:c3818cb6e8098188fc361f6e1f21de4f
CATEGORIES:Condiviso
SUMMARY:La sola Parola… San Francesco e la Parola di Dio
LOCATION:Istituto teologico «S. Antonio Dottore» in via San Massimo 25, a Padova
DESCRIPTION;ENCODING=QUOTED-PRINTABLE:\n\nAll' incontro parteciperanno fra Fabio Scarsato, direttore editoriale d
 el «Messaggero di sant’Antonio» e fra Andrea Vaona, docente presso la F
 acoltà teologica del Triveneto, disponibili a rispondere a eventuali doman
 de.\n
CONTACT:tel. 049 8225926 - e-mail: 
 
 
 
 
 Questo indirizzo e-mail è protetto dallo spam bot. Abilita Javascript per vederlo.
 
 
 

DTSTAMP:20260424T191942
DTSTART:20141129T090000
DTEND:20141129T110000
SEQUENCE:0
TRANSP:OPAQUE
END:VEVENT
END:VCALENDAR