BEGIN:VCALENDAR
VERSION:2.0
PRODID:-//jEvents 1.5 for Joomla//EN
BEGIN:VEVENT
UID:8895f5cae31e5cac360cb094ec3276f1
CATEGORIES:Condiviso
SUMMARY:133ª Assemblea CIMP Cap
LOCATION:CAMPOSAMPIERO - PD
DESCRIPTION;ENCODING=QUOTED-PRINTABLE:
CONTACT:fr. Ciro M. Polve-rino cell. 347 9433519; fr. F. Colacelli cell. 335 6868232 
 
 
 
 
 Questo indirizzo e-mail è protetto dallo spam bot. Abilita Javascript per vederlo.
 
 
 

DTSTAMP:20260424T163441
DTSTART:20150304T000000
DTEND:20150304T235959
SEQUENCE:0
TRANSP:OPAQUE
END:VEVENT
END:VCALENDAR