BEGIN:VCALENDAR
VERSION:2.0
PRODID:-//jEvents 1.5 for Joomla//EN
BEGIN:VEVENT
UID:d41332494f281d6223a41974e10bdecb
CATEGORIES:Condiviso
SUMMARY:XXXIX Assemblea Unione Famiglie Francescane d’Italia. 
LOCATION:CAMPOSAMPIERO - PD
DESCRIPTION;ENCODING=QUOTED-PRINTABLE:\n\nTema: Essere per andare… con frate Francesco testimoni gioiosi. \n
CONTACT:fr. Ciro M. Polve-rino cell. 347 9433519; fr. F. Colacelli cell. 335 6868232 
 
 
 
 
 Questo indirizzo e-mail è protetto dallo spam bot. Abilita Javascript per vederlo.
 
 
 

DTSTAMP:20260424T162438
DTSTART:20150302T000000
DTEND:20150302T235959
SEQUENCE:0
TRANSP:OPAQUE
END:VEVENT
END:VCALENDAR