BEGIN:VCALENDAR
VERSION:2.0
PRODID:-//jEvents 1.5 for Joomla//EN
BEGIN:VEVENT
UID:520d1391be0eda459923e33d231658d9
CATEGORIES:Condiviso
SUMMARY:Capitolo Provinciale - Provincia delle Marche
LOCATION:
DESCRIPTION;ENCODING=QUOTED-PRINTABLE:

DTSTAMP:20260422T141520
DTSTART:20150415T000000
DTEND:20150417T235959
SEQUENCE:0
TRANSP:OPAQUE
END:VEVENT
END:VCALENDAR