BEGIN:VCALENDAR
VERSION:2.0
PRODID:-//jEvents 1.5 for Joomla//EN
BEGIN:VEVENT
UID:8389f9e946ea24549da65b5d73f8d07e
CATEGORIES:Condiviso
SUMMARY:Capitolo Provinciale - Provincia del Piemonte
LOCATION:
DESCRIPTION;ENCODING=QUOTED-PRINTABLE:

DTSTAMP:20260422T125541
DTSTART:20150420T000000
DTEND:20150423T235959
SEQUENCE:0
TRANSP:OPAQUE
END:VEVENT
END:VCALENDAR