BEGIN:VCALENDAR
VERSION:2.0
PRODID:-//jEvents 1.5 for Joomla//EN
BEGIN:VEVENT
UID:cb6ea1c4aaa1bc13f1b44930fd7de2d0
CATEGORIES:Condiviso
SUMMARY:Le religioni: terreno di incontro on scontro fra popoli?
LOCATION:
DESCRIPTION;ENCODING=QUOTED-PRINTABLE:\n\nScarica il programma in PDF\n

DTSTAMP:20260424T192053
DTSTART:20150226T190000
DTEND:20150226T150000
SEQUENCE:0
TRANSP:OPAQUE
END:VEVENT
END:VCALENDAR