BEGIN:VCALENDAR
VERSION:2.0
PRODID:-//jEvents 1.5 for Joomla//EN
BEGIN:VEVENT
UID:11b37ca53284603bd0cc8b4ca3d12e58
CATEGORIES:Condiviso
SUMMARY:Convegno annuale degli Economi provinciali
LOCATION:via Card. Guglielmo Massaia, 26 - 00044 Frascati
DESCRIPTION;ENCODING=QUOTED-PRINTABLE:\n\nScarica il programma in PDF\n
CONTACT:fr. Claudio Passavan-ti cell. 339 1415327 
 
 
 
 
 Questo indirizzo e-mail è protetto dallo spam bot. Abilita Javascript per vederlo.
 
 
  

DTSTAMP:20260422T045015
DTSTART:20150615T000000
DTEND:20150615T235959
SEQUENCE:0
TRANSP:OPAQUE
END:VEVENT
END:VCALENDAR