BEGIN:VCALENDAR
VERSION:2.0
PRODID:-//jEvents 1.5 for Joomla//EN
BEGIN:VEVENT
UID:7953f136fdffd9740e0cf76766c5b602
CATEGORIES:Condiviso
SUMMARY:Assemblea congiunta del consiglio nazionale del Segretariato Fraternità-Formazione e Segretariato Fraternità-Missione
LOCATION:ROMA – VIA CAIROLI
DESCRIPTION;ENCODING=QUOTED-PRINTABLE:
CONTACT:fr. Claudio Passavan-ti cell. 339 1415327 
 
 
 
 
 Questo indirizzo e-mail è protetto dallo spam bot. Abilita Javascript per vederlo.
 
 
  e fr. Giordano Ferri cell. 348 2855610 frate

DTSTAMP:20260422T044904
DTSTART:20150617T000000
DTEND:20150617T235959
SEQUENCE:0
TRANSP:OPAQUE
END:VEVENT
END:VCALENDAR