BEGIN:VCALENDAR
VERSION:2.0
PRODID:-//jEvents 1.5 for Joomla//EN
BEGIN:VEVENT
UID:83d4add13a3777ebb1dee2670d7beb19
CATEGORIES:Condiviso
SUMMARY:Cibo che unisce - francescani e l'Expo"  Segretariato Fraternità-Missione
LOCATION:ROMA – VIA CAIROLI
DESCRIPTION;ENCODING=QUOTED-PRINTABLE:
CONTACT:fr. Giordano Ferri cell. 348 2855610 
 
 
 
 
 Questo indirizzo e-mail è protetto dallo spam bot. Abilita Javascript per vederlo.
 
 
 

DTSTAMP:20260422T064439
DTSTART:20150521T000000
DTEND:20150523T235959
SEQUENCE:0
TRANSP:OPAQUE
END:VEVENT
END:VCALENDAR