BEGIN:VCALENDAR
VERSION:2.0
PRODID:-//jEvents 1.5 for Joomla//EN
BEGIN:VEVENT
UID:c8c3830fe2d865513b06668b152c78ba
CATEGORIES:Condiviso
SUMMARY:XL Assemblea Unione Famiglie Francescane d’Italia
LOCATION:Assisi – Casa Leonori
DESCRIPTION;ENCODING=QUOTED-PRINTABLE:
CONTACT:fr. Ciro M. Polverino cell. 347 9433519

DTSTAMP:20260424T174417
DTSTART:20160222T000000
DTEND:20160226T235959
SEQUENCE:0
TRANSP:OPAQUE
END:VEVENT
END:VCALENDAR