BEGIN:VCALENDAR
VERSION:2.0
PRODID:-//jEvents 1.5 for Joomla//EN
BEGIN:VEVENT
UID:878162037662f9436991226ff931d9bf
CATEGORIES:Condiviso
SUMMARY:Consiglio di Presidenza CIMP Cap
LOCATION:Napoli - S. Eframo
DESCRIPTION;ENCODING=QUOTED-PRINTABLE:
CONTACT:Info fr. Ciro M. Polverino cell. 347 9433519; fr. Francesco Colacelli cell. 335 6868232 cimpcap.segretario@fraticappuc

DTSTAMP:20260422T044906
DTSTART:20150916T000000
DTEND:20150916T235959
SEQUENCE:0
TRANSP:OPAQUE
END:VEVENT
END:VCALENDAR