BEGIN:VCALENDAR
VERSION:2.0
PRODID:-//jEvents 1.5 for Joomla//EN
BEGIN:VEVENT
UID:99ece80820028c0810ca26398dac8d1c
CATEGORIES:Condiviso
SUMMARY:135ª Assemblea CIMP Cap
LOCATION:Alghero
DESCRIPTION;ENCODING=QUOTED-PRINTABLE:
CONTACT:Info fr. Ciro M. Polverino cell. 347 9433519; fr. Francesco Colacelli cell. 335 6868232 cimpcap.segretario@fraticappuc

DTSTAMP:20260422T064439
DTSTART:20151018T000000
DTEND:20151021T235959
SEQUENCE:0
TRANSP:OPAQUE
END:VEVENT
END:VCALENDAR