BEGIN:VCALENDAR
VERSION:2.0
PRODID:-//jEvents 1.5 for Joomla//EN
BEGIN:VEVENT
UID:c88ff0aa9d521e527a3371726de6948f
CATEGORIES:Condiviso
SUMMARY:Festival francescano 2015 – Sorella Terra
LOCATION:Bologna - Piazza Maggiore
DESCRIPTION;ENCODING=QUOTED-PRINTABLE:\n\nScarica il Programma in PDF\n
CONTACT:Info fr. Giordano Ferri cell. 348 2855610 
 
 
 
 
 Questo indirizzo e-mail è protetto dallo spam bot. Abilita Javascript per vederlo.
 
 
  

DTSTAMP:20260422T045015
DTSTART:20150927T000000
DTEND:20150929T235959
SEQUENCE:0
TRANSP:OPAQUE
END:VEVENT
END:VCALENDAR