BEGIN:VCALENDAR
VERSION:2.0
PRODID:-//jEvents 1.5 for Joomla//EN
BEGIN:VEVENT
UID:aabf54ed50522b8b92c04f4cba1f5fb8
CATEGORIES:Condiviso
SUMMARY:Capitolo elettivo della Provincia Toscana
LOCATION:
DESCRIPTION;ENCODING=QUOTED-PRINTABLE:

DTSTAMP:20260422T064443
DTSTART:20160418T000000
DTEND:20160418T235959
SEQUENCE:0
TRANSP:OPAQUE
END:VEVENT
END:VCALENDAR