BEGIN:VCALENDAR
VERSION:2.0
PRODID:-//jEvents 1.5 for Joomla//EN
BEGIN:VEVENT
UID:637a9aac841570950d45f0457be867e4
CATEGORIES:Condiviso
SUMMARY:5° Convegno ecclesiale nazionale
LOCATION:Firenze
DESCRIPTION;ENCODING=QUOTED-PRINTABLE:\n\nTema: In Gesù Cristo, il nuovo umanesimo. \n
X-EXTRAINFO:Per informazioni: http://www.firenze2015.it/
DTSTAMP:20260424T175411
DTSTART:20151109T000000
DTEND:20151113T235959
SEQUENCE:0
TRANSP:OPAQUE
END:VEVENT
END:VCALENDAR