BEGIN:VCALENDAR
VERSION:2.0
PRODID:-//jEvents 1.5 for Joomla//EN
BEGIN:VEVENT
UID:93b94f79644db6b87c3740c1bbb32e64
CATEGORIES:Condiviso
SUMMARY:La misericordia da frate Francesco al francescanesimo
LOCATION:Assisi - Sacro Convento di San Francesco - Casa Romanica
DESCRIPTION;ENCODING=QUOTED-PRINTABLE:\n\nSCARICA IL PROGRAMMA IN PDF\n
CONTACT:Ist. Teologico di Assisi - tel. 075813061 - email 
 
 
 
 
 Questo indirizzo e-mail è protetto dallo spam bot. Abilita Javascript per vederlo.
 
 
 

DTSTAMP:20260422T044906
DTSTART:20150921T000000
DTEND:20150924T235959
SEQUENCE:0
TRANSP:OPAQUE
END:VEVENT
END:VCALENDAR