BEGIN:VCALENDAR
VERSION:2.0
PRODID:-//jEvents 1.5 for Joomla//EN
BEGIN:VEVENT
UID:0522f53316fe2c9075b293ed8fb0060e
CATEGORIES:Condiviso
SUMMARY: Segretariato Fraternità-Missione: Incontro di zona Nord Italia.
LOCATION:Camposanpiero (Padova)
DESCRIPTION;ENCODING=QUOTED-PRINTABLE:\n\nRelatore: P. Luigi Gaetani \n

DTSTAMP:20260422T065404
DTSTART:20160307T000000
DTEND:20160308T235959
SEQUENCE:0
TRANSP:OPAQUE
END:VEVENT
END:VCALENDAR