BEGIN:VCALENDAR
VERSION:2.0
PRODID:-//jEvents 1.5 for Joomla//EN
BEGIN:VEVENT
UID:bc668791b49169526e77c571d8f9c069
CATEGORIES:Condiviso
SUMMARY:Consiglio di Presidenza CIMP Cap
LOCATION:
DESCRIPTION;ENCODING=QUOTED-PRINTABLE:
CONTACT:fr. Ciro M. Polverino cell. 347 9433519; fr. Francesco Colacelli cell. 335 6868232 
 
 
 
 
 Questo indirizzo e-mail è protetto dallo spam bot. Abilita Javascript per vederlo.
 
 
 

DTSTAMP:20260424T194124
DTSTART:20151207T000000
DTEND:20151207T235959
SEQUENCE:0
TRANSP:OPAQUE
END:VEVENT
END:VCALENDAR