BEGIN:VCALENDAR
VERSION:2.0
PRODID:-//jEvents 1.5 for Joomla//EN
BEGIN:VEVENT
UID:0f587f7ead88d55567c7316097a60c2f
CATEGORIES:Condiviso
SUMMARY:Le spoglie mortali di S. Pio e S. Leopoldo saranno traslate a S. Pietro per il Giubileo
LOCATION:Roma
DESCRIPTION;ENCODING=QUOTED-PRINTABLE:
CONTACT:fr. Ciro M. Polverino cell. 347 9433519; fr. Francesco Colacelli cell. 335 6868232 
 
 
 
 
 Questo indirizzo e-mail è protetto dallo spam bot. Abilita Javascript per vederlo.
 
 
 

DTSTAMP:20260424T174628
DTSTART:20160203T000000
DTEND:20160211T235959
SEQUENCE:0
TRANSP:OPAQUE
END:VEVENT
END:VCALENDAR