BEGIN:VCALENDAR
VERSION:2.0
PRODID:-//jEvents 1.5 for Joomla//EN
BEGIN:VEVENT
UID:7571963eda1144a2ca600bf29663510d
CATEGORIES:Condiviso
SUMMARY:136ª Assemblea  CIMP Cap
LOCATION:Assisi
DESCRIPTION;ENCODING=QUOTED-PRINTABLE:
CONTACT:fr. Ciro M. Polverino cell. 347 9433519; fr. Francesco Colacelli cell. 335 6868232 
 
 
 
 
 Questo indirizzo e-mail è protetto dallo spam bot. Abilita Javascript per vederlo.
 
 
 

DTSTAMP:20260424T174516
DTSTART:20160222T000000
DTEND:20160226T235959
SEQUENCE:0
TRANSP:OPAQUE
END:VEVENT
END:VCALENDAR