BEGIN:VCALENDAR
VERSION:2.0
PRODID:-//jEvents 1.5 for Joomla//EN
BEGIN:VEVENT
UID:83550079af72c620857f10336de987a6
CATEGORIES:Condiviso
SUMMARY:Giornata di spiritualità per i Fratelli Lasici Italiani organizzata dalla CIMP Cap in occasione dei cinquecento anni dalla nascita di S. Felice
LOCATION:Roma-Via Veneto
DESCRIPTION;ENCODING=QUOTED-PRINTABLE:
CONTACT:fr. Ciro M. Polverino cell. 347 9433519; fr. Gianfranco Palmisani cell. 335 354799 
 
 
 
 
 Questo indirizzo e-mail è protetto dallo spam bot. Abilita Javascript per vederlo.
 
 
 

DTSTAMP:20260422T052244
DTSTART:20160430T000000
DTEND:20160430T235959
SEQUENCE:0
TRANSP:OPAQUE
END:VEVENT
END:VCALENDAR