BEGIN:VCALENDAR
VERSION:2.0
PRODID:-//jEvents 1.5 for Joomla//EN
BEGIN:VEVENT
UID:1389e02a90f73b415981d842c3e81f97
CATEGORIES:Condiviso
SUMMARY:Incontro di zona Sud Italia
LOCATION:San Giovanni Rotondo (FG)
DESCRIPTION;ENCODING=QUOTED-PRINTABLE:
CONTACT:fr. Giordano Ferri cell. 348 2855610 
 
 
 
 
 Questo indirizzo e-mail è protetto dallo spam bot. Abilita Javascript per vederlo.
 
 
 

DTSTAMP:20260422T044906
DTSTART:20160509T000000
DTEND:20160510T235959
SEQUENCE:0
TRANSP:OPAQUE
END:VEVENT
END:VCALENDAR