BEGIN:VCALENDAR
VERSION:2.0
PRODID:-//jEvents 1.5 for Joomla//EN
BEGIN:VEVENT
UID:261ea459d2c1ecf42285e7617b6a934e
CATEGORIES:Condiviso
SUMMARY:Convegno su S. Felice organizzato dalla Provincia Romana
LOCATION:Roma-Via Veneto
DESCRIPTION;ENCODING=QUOTED-PRINTABLE:
CONTACT:fr. Ciro M. Polverino cell. 347 9433519; fr. Gianfranco Palmisani cell. 335 354799 
 
 
 
 
 Questo indirizzo e-mail è protetto dallo spam bot. Abilita Javascript per vederlo.
 
 
 

DTSTAMP:20260422T045015
DTSTART:20160520T000000
DTEND:20160522T235959
SEQUENCE:0
TRANSP:OPAQUE
END:VEVENT
END:VCALENDAR