BEGIN:VCALENDAR
VERSION:2.0
PRODID:-//jEvents 1.5 for Joomla//EN
BEGIN:VEVENT
UID:3b9f801f90a5880345e74a53ec437c5e
CATEGORIES:Condiviso
SUMMARY:Segretariato Fraternità Formazione – XVI Convoc. Fraterna naz.le per Postnovizi, Studenti e Formatori
LOCATION:Leonessa
DESCRIPTION;ENCODING=QUOTED-PRINTABLE:
CONTACT:Info fr. Claudio Passavanti cell. 339 1415327 
 
 
 
 
 Questo indirizzo e-mail è protetto dallo spam bot. Abilita Javascript per vederlo.
 
 
 

DTSTAMP:20260422T012106
DTSTART:20160822T000000
DTEND:20160827T235959
SEQUENCE:0
TRANSP:OPAQUE
END:VEVENT
END:VCALENDAR