BEGIN:VCALENDAR
VERSION:2.0
PRODID:-//jEvents 1.5 for Joomla//EN
BEGIN:VEVENT
UID:ca7c8c09d79f3d60377dbd8fbd93b14a
CATEGORIES:Condiviso
SUMMARY: Capitolo elettivo della Provincia dell’Abruzzo
LOCATION:
DESCRIPTION;ENCODING=QUOTED-PRINTABLE:

DTSTAMP:20260422T044905
DTSTART:20160523T000000
DTEND:20160523T235959
SEQUENCE:0
TRANSP:OPAQUE
END:VEVENT
END:VCALENDAR