BEGIN:VCALENDAR
VERSION:2.0
PRODID:-//jEvents 1.5 for Joomla//EN
BEGIN:VEVENT
UID:55706ac2c987702c0e7f42c5400caf75
CATEGORIES:Condiviso
SUMMARY:150ª Assemblea Generale CimpCap 3 Giugno 2021 Online
LOCATION:
DESCRIPTION;ENCODING=QUOTED-PRINTABLE:\n\n150ª Assemblea Generale CimpCap 3 Giugno 2021 Online\n

DTSTAMP:20260421T100849
DTSTART:20210603T000000
DTEND:20210603T235959
SEQUENCE:0
TRANSP:OPAQUE
END:VEVENT
END:VCALENDAR