BEGIN:VCALENDAR
VERSION:2.0
PRODID:-//jEvents 1.5 for Joomla//EN
BEGIN:VEVENT
UID:f4e945e478e8adcdf1d23a834d1fb9a8
CATEGORIES:Condiviso
SUMMARY:Convegno “Giovani e Frati”
LOCATION:
DESCRIPTION;ENCODING=QUOTED-PRINTABLE:\n\nhttp://segretariatocimpcap.altervista.org/\n
CONTACT:SERVIZIO DI PASTORALE GIOVANILE VOCAZIONALE - SEGRETARIATO FRATERNITÀ-FORMAZIONE

DTSTAMP:20260421T100849
DTSTART:20210601T093000
DTEND:20210601T120000
SEQUENCE:0
TRANSP:OPAQUE
END:VEVENT
END:VCALENDAR