BEGIN:VCALENDAR
VERSION:2.0
PRODID:-//jEvents 1.5 for Joomla//EN
BEGIN:VEVENT
UID:e3359c2c70fd777e12e66d158d2374fc
CATEGORIES:Condiviso
SUMMARY:Festival Francescano
LOCATION:Bologna
DESCRIPTION;ENCODING=QUOTED-PRINTABLE:\n\nSvilupperemo il tema dell’economia, in continuità con l’anno scors
 o, declinandolo alla luce\ndell’Enciclica Fratelli Tutti di papa Francesc
 o; il titolo di questa edizione sarà “Economia Gentile. Il\nmondo è di 
 tutti”\nhttps://www.festivalfrancescano.it/\n\n\nScarica il programma\n\n

DTSTAMP:20260421T150929
DTSTART:20210924T000000
DTEND:20210926T235959
SEQUENCE:0
TRANSP:OPAQUE
END:VEVENT
END:VCALENDAR