BEGIN:VCALENDAR
VERSION:2.0
PRODID:-//jEvents 1.5 for Joomla//EN
BEGIN:VEVENT
UID:bb351463dc11e392726cde184d0ea7ae
CATEGORIES:Condiviso
SUMMARY:I Cappuccini in Europa - Il sogno della fraternità 
LOCATION:Czestochowa - Polonia
DESCRIPTION;ENCODING=QUOTED-PRINTABLE:Clicca qui per tutte le informazioni sull'evento\n\n\n Messaggio del Minis
 tro Generale OFMCap, \nfra Roberto Genuin: https://youtu.be/LJQD7-jmfGQ\n

DTSTAMP:20260421T165218
DTSTART:20211011T000000
DTEND:20211016T235959
SEQUENCE:0
TRANSP:OPAQUE
END:VEVENT
END:VCALENDAR