BEGIN:VCALENDAR
VERSION:2.0
PRODID:-//jEvents 1.5 for Joomla//EN
BEGIN:VEVENT
UID:ab944d4741bbe980614254feb1120a45
CATEGORIES:Condiviso
SUMMARY:Incontro Nuovi Ministri Provinciali
LOCATION:
DESCRIPTION;ENCODING=QUOTED-PRINTABLE:\n\nIncontro Nuovi Ministri Provinciali\n

DTSTAMP:20260421T100850
DTSTART:20210628T000000
DTEND:20210702T235959
SEQUENCE:0
TRANSP:OPAQUE
END:VEVENT
END:VCALENDAR