BEGIN:VCALENDAR
VERSION:2.0
PRODID:-//jEvents 1.5 for Joomla//EN
BEGIN:VEVENT
UID:1826d3e81010215cd89d4daaf9dd9d05
CATEGORIES:Condiviso
SUMMARY:Beatificazione Maria Lorenza Longo fondatrice delle Cappuccine
LOCATION:Napoli
DESCRIPTION;ENCODING=QUOTED-PRINTABLE:\n\nBeatificazione Maria Lorenza Longo fondatrice delle Cappuccine\n

DTSTAMP:20260421T170116
DTSTART:20211009T000000
DTEND:20211009T235959
SEQUENCE:0
TRANSP:OPAQUE
END:VEVENT
END:VCALENDAR