BEGIN:VCALENDAR
VERSION:2.0
PRODID:-//jEvents 1.5 for Joomla//EN
BEGIN:VEVENT
UID:d5ecf10014a366fccd4e0f17d6d2919a
CATEGORIES:Condiviso
SUMMARY:XLIV Assemblea Unione Famiglie Francescane
LOCATION:
DESCRIPTION;ENCODING=QUOTED-PRINTABLE:\nScarica il programma\n\n\nScarica il Comunicato Stampa\n\n

DTSTAMP:20260421T132439
DTSTART:20220314T000000
DTEND:20220318T235959
SEQUENCE:0
TRANSP:OPAQUE
END:VEVENT
END:VCALENDAR