BEGIN:VCALENDAR
VERSION:2.0
PRODID:-//jEvents 1.5 for Joomla//EN
BEGIN:VEVENT
UID:c7d7bd029047a0e1b0b6b7a045f00572
CATEGORIES:Condiviso
SUMMARY:152a Assemblea Generale CIMPCap
LOCATION:
DESCRIPTION;ENCODING=QUOTED-PRINTABLE:\n\n152a Assemblea Generale CIMPCap\n

DTSTAMP:20260421T132429
DTSTART:20220316T000000
DTEND:20220317T235959
SEQUENCE:0
TRANSP:OPAQUE
END:VEVENT
END:VCALENDAR