BEGIN:VCALENDAR
VERSION:2.0
PRODID:-//jEvents 1.5 for Joomla//EN
BEGIN:VEVENT
UID:8e6813644356284bfce5954ec4db3f93
CATEGORIES:Condiviso
SUMMARY:Weekend biblici francescani "â€‹DA GESÃ™ DI NAZARETH A FRANCESCO DI ASSISI" - â€‹Tenuti da fr. Pietro Maranesi 
LOCATION:
DESCRIPTION;ENCODING=QUOTED-PRINTABLE:\n\nIl centro di Esperienza e formazione  francescana propone alcuni fine  
 settimana mensili per sperimentare la  semplicitÃ  della vita francescana  
 cappuccina, pregare insieme il  mistero dellâ€™amore di Dio e riflettere  s
 ulla fede. La bellezza e la  pace del nostro convento aiuteranno in  questo
  ascolto condiviso insieme  ad altri fratelli e sorelle.\n\n\nOttobre 30-31
 : Lâ€™uomo GesÃ¹: Figlio\n GesÃ¹ di Nazareth: il figlio di Maria e Giuseppe
 \n Francesco di Assisi: lâ€™umanitÃ  di GesÃ¹\n\n\nNovembre 27-28: lâ€™uomo
  GesÃ¹: profeta\nGesÃ¹ di Nazareth: il profeta del regno di Dio\nFrancesco 
 di Assisi: la bellezza del Vangelo\n\n\nDicembre 18-19: Il Dio di GesÃ¹: Ja
 hwÃ¨\nGesÃ¹: Il Dio dei padri e della legge\nFrancesco di Assisi: Altissimo
  onnipotente: il totalmente altro\n\n\nGennaio 29-30: Il Dio di GesÃ¹: AbbÃ
  \nGesÃ¹: il Padre di ogni uomo e di misericordia\nFrancesco: il buon-bene 
 del Padre: colui che Ã¨ prossimo\n\n\nFebbraio 26-27: Lo Spirito di GesÃ¹: 
 ricevuto\nGesÃ¹: lo riceve per agire\nFrancesco: desiderare lo spirito del 
 Signore â€¦\n\n\nMarzo 26-27: Lo Spirito di GesÃ¹: donato\nGesÃ¹: lo dona c
 on la sua vita\nFrancescoâ€¦ e la sua santa operazione\n\n\nAprile 30-1 Mag
 gio: Una chiesa di GesÃ¹: convocati\nGesÃ¹: Riuniti nel suo nome\nFrancesco
 : insieme come fratelli\n\n\nGiugno 4-5: La Chiesa di GesÃ¹: inviati\nGesÃ¹
 : per annunciare il suo nome\nFrancesco: nel mondo per annunciare la pace\n
 COME PARTECIPARE\n\nPossibilitÃ    di pernottamento allâ€™interno del conve
 nto per un massimo di 16 persone   (sono inclusi la cena del sabato, la col
 azione e il pranzo della   domenica). Le stanze sono semplici ma accoglient
 i. Una libera offerta   finale aiuterÃ  a sostenere la vita del centro.\nGl
 i incontri sono  aperti anche a coloro che  non intendono pernottare. In qu
 esto caso non  sono previsti i pasti a  meno che non ne venga fatta richies
 ta  anticipata. \nÃˆ richiesto il green pass. \nLa prenotazione Ã¨ obbligat
 oria e deve essere effettuata, entro e non oltre, il lunedÃ¬ precedente al 
 weekend dellâ€™incontro\n\n\nPROGRAMMA DELLE GIORNATE (puÃ² variare secondo
  le esigenze)\nsabato \n16,00: riflessione biblica e condivisione\n20,00: c
 ena\n21,30 â€“ 22,30: veglia di preghiera (un lucernario) insieme alle sore
 lle Clarisse del monastero di San Severino\n\n\ndomenica\n8,00: lodi e cola
 zione\n9,30: riflessione francescana e condivisione\n11,30: celebrazione eu
 caristica\n13,00: pranzo\n\n\nINFORMAZIONI CONTATTI E PRENOTAZIONI:\nlâ€™em
 ail:

DTSTAMP:20260421T044834
DTSTART:20220604T000000
DTEND:20220605T235959
SEQUENCE:0
TRANSP:OPAQUE
END:VEVENT
END:VCALENDAR