BEGIN:VCALENDAR
VERSION:2.0
PRODID:-//jEvents 1.5 for Joomla//EN
BEGIN:VEVENT
UID:dc5a072f40cfd0af3c22e9f78a8fb7ac
CATEGORIES:Condiviso
SUMMARY:Riunione responsabili Pastorale Giovanile-Vocazionale
LOCATION:Frascati
DESCRIPTION;ENCODING=QUOTED-PRINTABLE:\n\nRiunione responsabili Pastorale Giovanile-Vocazionale\n

DTSTAMP:20260421T202013
DTSTART:20211122T000000
DTEND:20211124T235959
SEQUENCE:0
TRANSP:OPAQUE
END:VEVENT
END:VCALENDAR