BEGIN:VCALENDAR
VERSION:2.0
PRODID:-//jEvents 1.5 for Joomla//EN
BEGIN:VEVENT
UID:3ca555677ae1d7affd3d61de11b132a1
CATEGORIES:Condiviso
SUMMARY:Incontro online Laboratorio Comunicazioni
LOCATION:
DESCRIPTION;ENCODING=QUOTED-PRINTABLE:\n\n\n

DTSTAMP:20260421T115231
DTSTART:20220407T110000
DTEND:20220407T150000
SEQUENCE:0
TRANSP:OPAQUE
END:VEVENT
END:VCALENDAR