BEGIN:VCALENDAR
VERSION:2.0
PRODID:-//jEvents 1.5 for Joomla//EN
BEGIN:VEVENT
UID:5394d7c7e821fbf32b57079e88a3ac0a
CATEGORIES:Condiviso
SUMMARY:Incontro online Laboratorio Missio ad gentes
LOCATION:
DESCRIPTION;ENCODING=QUOTED-PRINTABLE:\n\n\n

DTSTAMP:20260421T115232
DTSTART:20220419T110000
DTEND:20220419T150000
SEQUENCE:0
TRANSP:OPAQUE
END:VEVENT
END:VCALENDAR