BEGIN:VCALENDAR
VERSION:2.0
PRODID:-//jEvents 1.5 for Joomla//EN
BEGIN:VEVENT
UID:b03dc1caa807f2e6ed07d4a1951f24d4
CATEGORIES:Condiviso
SUMMARY:Incontro online Laboratorio Annuncio della Parola
LOCATION:
DESCRIPTION;ENCODING=QUOTED-PRINTABLE:\n\n\n

DTSTAMP:20260421T115231
DTSTART:20220423T110000
DTEND:20220423T150000
SEQUENCE:0
TRANSP:OPAQUE
END:VEVENT
END:VCALENDAR